Workbook

Sheet TOC
A1: BENUE STATE GOVERNMENT
A3: BENUE STATE 2024 SUPPLEMENTARY ESTIMATES - SUMMARY
A4: S/NO | B4: ADMIN CODE | C4: PSE/MDA | D4: PAGE NO.
A5: 1 | C5: TABLE OF CONTENT | D5: 1
A6: 2 | C6: 2024 SUPPLEMENTARY BUDGET: REVENUE SUMMARY | D6: 3
A7: 3 | C7: 2024 SUPPLEMENTARY BUDGET: REVENUE DETAILS | D7: 4
A8: 4 | C8: 2024 SUPPLEMENTARY BUDGET FRAMEWORK | D8: 6
A9: 5 | C9: 2024 SUPPLEMENTARY ESTIMATES - SUMMARY | D9: 7
A10: 6 | C10: 2024 SUPPLEMENTARY ESTIMATES - SECTORAL ALLOCATION | D10: 11
A11: 7 | C11: SUMMARY OF SUPPLEMENTARY ESTIMATES (RECURRENT AND CAPITAL EXPENDITURE) | D11: 14
A12: 1 | B12: 011100100100 | C12: Government House Administration | D12: 17
A13: 2 | B13: 011100100200 | C13: Deputy Governor's Office | D13: 18
A14: 3 | B14: 011100500100 | C14: Development Cooperations, Sustainable Development Goals (SDGs) | D14: 19
A15: 4 | B15: 011100800100 | C15: Benue State Emergency Management Agency (BESEMA) | D15: 20
A16: 5 | B16: 011101000100 | C16: Public Procurement Commission | D16: 22
A17: 6 | B17: 011102100500 | C17: Bureau of Archives, Research and Documentation | D17: 24
A18: 7 | B18: 011103300100 | C18: Benue State Aids Control Agency (BENSACA) | D18: 25
A19: 8 | B19: 011103700100 | C19: Muslim Pilgrims Welfare Board (MPWB) | D19: 26
A20: 9 | B20: 011103800100 | C20: Christian Pilgrims Welfare Board (CPWB) | D20: 27
A21: 10 | B21: 011104500100 | C21: Benue State Pension Commission | D21: 29
A22: 11 | B22: 011100600100 | C22: Benue State Commission for Peace and Reconciliation | D22: 33
A23: 12 | B23: 011200300100 | C23: Benue State House of Assembly | D23: 35
... A62: 51 | B62: 023800100100 | C62: Benue State Budget and Economic Planning Commission | D62: 183
A63: 52 | B63: 023800400100 | C63: Benue State Bureau of Statistics
A64: 53 | B64: 025000100100 | C64: Fiscal Responsibility Commission
A65: 54 | B65: 025200100100 | C65: Ministry of Water Resources, Environment and Climate Change
A66: 55 | B66: 025210200100 | C66: Benue State Water Board
A67: 56 | B67: 025210300100 | C67: Benue State Rural Water Supply and Sanitation Agency (BERWASSA)
A68: 57 | B68: 025210400100 | C68: Benue State Environmental Sanitation Authority
A69: 58 | B69: 025400100100 | C69: Ministry of Cooperatives and Rural Development
A70: 59 | B70: 025400200100 | C70: Benue State Urban Development Board
A71: 60 | B71: 026000100100 | C71: Ministry of Lands, Survey and Solid Minerals
A72: 61 | B72: 031801100100 | C72: Benue State Judicial Service Commission
A73: 62 | B73: 031805100100 | C73: High Court of Justice
A74: 63 | B74: 031805200100 | C74: Customary Court of Appeal
... A103: 92 | B103: 055100100100 | C103: Bureau of Local Government and Chieftaincy Affairs

Sheet BudgetSize,2024
A1: BENUE STATE GOVERNMENT
A3: BENUE STATE 2024 SUPPLEMENTARY ESTIMATES - SUMMARY
A5: S/No | B5: SECTORAL CODE | C5: PUBLIC SECTOR ENTITIES (PSEs) | D5: RECURRENT REVENUE | E5: PERSONNEL COST | F5: OVERHEAD COST | G5: RECURRENT EXPENDITURE | H5: CAPITAL EXPENDITURE | I5: TOTAL ALLOCATION
C6: PERCENTAGE: | E6: =E7/I7*100% -> 0.18165028 | F6: =F7/I7*100% -> 0.23249557 | G6: =SUM(E6,F6) -> 0.41414584 | H6: =H7/I7*100% -> 0.58585416 | I6: =SUM(G6,H6) -> 1
C7: TOTAL: | D7: =SUM(D8:D104) -> 3.7302057e+11 | E7: =SUM(E8:E104) -> 6.775929e+10 | F7: =SUM(F8:F104) -> 8.6725628e+10 | G7: =SUM(G8:G104) -> 1.5448492e+11 | H7: =SUM(H8:H104) -> 2.1853565e+11 | I7: =SUM(I8:I104) -> 3.7302057e+11 | K7: =I7-D7 -> 0.62512207
A8: 1 | B8: 011100100100 | C8: Government House Administration | E8: ='Detail RecExp. & CapEx'!K45 -> 1.652007e+08 | F8: ='Detail RecExp. & CapEx'!K46 -> 4536586900 | G8: =SUM(E8,F8) -> 4.7017876e+09 | H8: ='Detail RecExp. & CapEx'!K59 -> 646000000 | I8: =SUM(G8,H8) -> 5.3477876e+09
A9: 2 | B9: 011100100200 | C9: Deputy Governor's Office | E9: ='Detail RecExp. & CapEx'!K105 -> 6446411.7 | F9: ='Detail RecExp. & CapEx'!K106 -> 1835469200 | G9: =SUM(E9,F9) -> 1.8419156e+09 | H9: ='Detail RecExp. & CapEx'!K116 -> 51520000 | I9: =SUM(G9,H9) -> 1.8934356e+09
A10: 3 | B10: 011100500100 | C10: Development Cooperations, Sustainable Development Goals (SDGs) | E10: ='Detail RecExp. & CapEx'!K204 -> 0 | F10: ='Detail RecExp. & CapEx'!K205 -> 0 | G10: =SUM(E10,F10) -> 0 | H10: ='Detail RecExp. & CapEx'!K223 -> 0 | I10: =SUM(G10,H10) -> 0
A11: 4 | B11: 011100600100 | C11: Benue State Commission for Peace and Reconciliation | E11: ='Detail RecExp. & CapEx'!K620 -> 42250000 | F11: ='Detail RecExp. & CapEx'!K621 -> 291722400 | G11: =SUM(E11,F11) -> 333972400 | H11: ='Detail RecExp. & CapEx'!K632 -> 58000000 | I11: =SUM(G11,H11) -> 391972400
A12: 5 | B12: 011100800100 | C12: Benue State Emergency Management Agency (BESEMA) | D12: ='DetailSup-Rec.Rev.,2024'!H125 -> 5591636743 | E12: ='Detail RecExp. & CapEx'!K299 -> 2038658.5 | F12: ='Detail RecExp. & CapEx'!K300 -> 9502424000 | G12: =SUM(E12,F12) -> 9.5044627e+09 | H12: ='Detail RecExp. & CapEx'!K312 -> 1303000000 | I12: =SUM(G12,H12) -> 1.0807463e+10
A13: 6 | B13: 011101000100 | C13: Public Procurement Commission | D13: 97400000 | E13: - | F13: ='Detail RecExp. & CapEx'!K354 -> 12000000 | G13: =SUM(E13,F13) -> 12000000 | H13: ='Detail RecExp. & CapEx'!K367 -> 24977000 | I13: =SUM(G13,H13) -> 36977000
A14: 7 | B14: 011102000100 | C14: Benue State Social Investment Programme | E14: ='Detail RecExp. & CapEx'!K5575 -> 0 | F14: ='Detail RecExp. & CapEx'!K5576 -> 390130000 | G14: =SUM(E14,F14) -> 390130000 | H14: ='Detail RecExp. & CapEx'!K5591 -> 1.6935222e+09 | I14: =SUM(G14,H14) -> 2.0836522e+09
A15: 8 | B15: 011102100500 | C15: Bureau of Archives, Research and Documentation | E15: ='Detail RecExp. & CapEx'!K402 -> 27856086 | F15: ='Detail RecExp. & CapEx'!K403 -> 7467000 | G15: =SUM(E15,F15) -> 35323086 | H15: ='Detail RecExp. & CapEx'!K411 -> 1830000 | I15: =SUM(G15,H15) -> 37153086
A16: 9 | B16: 011103300100 | C16: Benue State Aids Control Agency (BENSACA) | D16: 13500000 | E16: - | F16: ='Detail RecExp. & CapEx'!K450 -> 18080000 | G16: =SUM(E16,F16) -> 18080000 | H16: - | I16: =SUM(G16,H16) -> 18080000
A17: 10 | B17: 011103700100 | C17: Muslim Pilgrims Welfare Board (MPWB) | D17: 500000 | E17: ='Detail RecExp. & CapEx'!K476 -> 4176600.8 | F17: ='Detail RecExp. & CapEx'!K477 -> 4248000 | G17: =SUM(E17,F17) -> 8424600.8 | H17: ='Detail RecExp. & CapEx'!K487 -> 87000000 | I17: =SUM(G17,H17) -> 95424601
A18: 11 | B18: 011103800100 | C18: Christian Pilgrims Welfare Board (CPWB) | D18: 600000 | E18: ='Detail RecExp. & CapEx'!K515 -> 4176600.8 | F18: ='Detail RecExp. & CapEx'!K516 -> 4248000 | G18: =SUM(E18,F18) -> 8424600.8 | H18: ='Detail RecExp. & CapEx'!K524 -> 636300 | I18: =SUM(G18,H18) -> 9060900.8
A19: 12 | B19: 011104500100 | C19: Benue State Pension Commission | D19: ='DetailSup-Rec.Rev.,2024'!H82 -> 55000000 | E19: ='Detail RecExp. & CapEx'!K579 -> 1.7772815e+10 | F19: ='Detail RecExp. & CapEx'!K580 -> 55020000 | G19: =SUM(E19,F19) -> 1.7827835e+10 | H19: - | I19: =SUM(G19,H19) -> 1.7827835e+10
A20: 13 | B20: 011110100100 | C20: Bureau of Special Projects & Infrastructure | E20: ='Detail RecExp. & CapEx'!K675 -> 9570000 | F20: ='Detail RecExp. & CapEx'!K676 -> 68109000 | G20: =SUM(E20,F20) -> 77679000 | H20: ='Detail RecExp. & CapEx'!K691 -> 6.359904e+10 | I20: =SUM(G20,H20) -> 6.3676719e+10
A21: 14 | B21: 011113200100 | C21: Bureau for International Cooperation & Development | E21: ='Detail RecExp. & CapEx'!K159 -> 0 | F21: ='Detail RecExp. & CapEx'!K160 -> 195400000 | G21: =SUM(E21,F21) -> 195400000 | H21: ='Detail RecExp. & CapEx'!K169 -> 500000 | I21: =SUM(G21,H21) -> 195900000
A22: 15 | B22: 011200300100 | C22: Benue State House of Assembly | E22: ='Detail RecExp. & CapEx'!K743 -> 5.5336654e+08 | F22: ='Detail RecExp. & CapEx'!K744 -> 4.461655e+09 | G22: =SUM(E22,F22) -> 5.0150215e+09 | H22: ='Detail RecExp. & CapEx'!K774 -> 3468084506 | I22: =SUM(G22,H22) -> 8.483106e+09
A23: 16 | B23: 011200400100 | C23: Benue State House of Assembly Service Commission | E23: ='Detail RecExp. & CapEx'!K817 -> 221477945 | F23: ='Detail RecExp. & CapEx'!K818 -> 758570001 | G23: =SUM(E23,F23) -> 980047946 | H23: ='Detail RecExp. & CapEx'!K834 -> 755705000 | I23: =SUM(G23,H23) -> 1735752946
A24: 17 | B24: 012300100100 | C24: Ministry of Information, Culture and Tourism | D24: 38046452 | E24: ='Detail RecExp. & CapEx'!K872 -> 4.8126776e+08 | F24: ='Detail RecExp. & CapEx'!K873 -> 48076452 | G24: =SUM(E24,F24) -> 5.2934421e+08 | H24: ='Detail RecExp. & CapEx'!K887 -> 188962830 | I24: =SUM(G24,H24) -> 7.1830704e+08
A25: 18 | B25: 012300300100 | C25: Benue State Television Corporation | D25: 10000000 | E25: ='Detail RecExp. & CapEx'!K940 -> 56676681 | F25: ='Detail RecExp. & CapEx'!K941 -> 87771435 | G25: =SUM(E25,F25) -> 1.4444812e+08 | H25: ='Detail RecExp. & CapEx'!K958 -> 32200000 | I25: =SUM(G25,H25) -> 1.7664812e+08
A26: 19 | B26: 012300400100 | C26: Radio Benue Corporation | D26: 15700000 | E26: ='Detail RecExp. & CapEx'!K998 -> 3.1072371e+08 | F26: ='Detail RecExp. & CapEx'!K999 -> 49520000 | G26: =SUM(E26,F26) -> 3.6024371e+08 | I26: =SUM(G26,H26) -> 3.6024371e+08
A27: 20 | B27: 012301300100 | C27: Benue Printing and Publishing Corporation (BPPC) | D27: 5800000 | E27: ='Detail RecExp. & CapEx'!K1032 -> 1.3231781e+08 | F27: ='Detail RecExp. & CapEx'!K1033 -> 9185385 | G27: =SUM(E27,F27) -> 1.415032e+08 | I27: =SUM(G27,H27) -> 1.415032e+08
A28: 21 | B28: 012305500100 | C28: Government Printing Department | D28: 800000 | E28: ='Detail RecExp. & CapEx'!K1067 -> 444248.48 | F28: ='Detail RecExp. & CapEx'!K1068 -> 7080000 | G28: =SUM(E28,F28) -> 7524248.5 | I28: =SUM(G28,H28) -> 7524248.5
A29: 22 | B29: 012400100100 | C29: Bureau of Internal Affairs and Special Services (BIASS) | D29: ='DetailSup-Rec.Rev.,2024'!H94 -> 21800000 | E29: ='Detail RecExp. & CapEx'!K1105 -> 124500000 | F29: ='Detail RecExp. & CapEx'!K1106 -> 1.2833235e+10 | G29: =SUM(E29,F29) -> 1.2957735e+10 | I29: =SUM(G29,H29) -> 1.2957735e+10
A30: 23 | B30: 012500100100 | C30: Office of the Head of Service (HOS) | E30: ='Detail RecExp. & CapEx'!K1146 -> 5.7470576e+08 | F30: ='Detail RecExp. & CapEx'!K1147 -> 46444800 | G30: =SUM(E30,F30) -> 6.2115056e+08 | I30: =SUM(G30,H30) -> 6.2115056e+08
A31: 24 | B31: 012500100200 | C31: Bureau of Establishment and Management Services | E31: ='Detail RecExp. & CapEx'!K1178 -> 3.1763351e+08 | F31: ='Detail RecExp. & CapEx'!K1179 -> 67896000 | G31: =SUM(E31,F31) -> 3.8552951e+08 | I31: =SUM(G31,H31) -> 3.8552951e+08
A32: 25 | B32: 012500100500 | C32: Bureau of Service Welfare | D32: 40909841 | E32: ='Detail RecExp. & CapEx'!K1214 -> 0 | F32: ='Detail RecExp. & CapEx'!K1215 -> 180668000 | G32: =SUM(E32,F32) -> 180668000 | H32: ='Detail RecExp. & CapEx'!K1227 -> 104000000 | I32: =SUM(G32,H32) -> 284668000
A33: 26 | B33: 012500500100 | C33: Bureau of Manpower Development and Training | D33: 5500000 | E33: ='Detail RecExp. & CapEx'!K1254 -> 11674200 | F33: ='Detail RecExp. & CapEx'!K1255 -> 11228000 | G33: =SUM(E33,F33) -> 22902200 | I33: =SUM(G33,H33) -> 22902200
B34: 012500600100 | C34: Benue Public service institute | F34: ='Detail RecExp. & CapEx'!K5629 -> 33600000 | G34: =SUM(E34,F34) -> 33600000 | H34: ='Detail RecExp. & CapEx'!K5644 -> 90000000 | I34: =SUM(G34,H34) -> 123600000
A35: 27 | B35: 014000100100 | C35: Office of the Auditor-General of the State | D35: 450000 | E35: ='Detail RecExp. & CapEx'!K1295 -> 1.4191836e+08 | F35: ='Detail RecExp. & CapEx'!K1296 -> 14160000 | G35: =SUM(E35,F35) -> 1.5607836e+08 | H35: ='Detail RecExp. & CapEx'!K1304 -> 200000000 | I35: =SUM(G35,H35) -> 3.5607836e+08
A36: 28 | B36: 014000200100 | C36: Local Government Audit Department | D36: 440000 | E36: ='Detail RecExp. & CapEx'!K1325 -> 68522495 | F36: ='Detail RecExp. & CapEx'!K1326 -> 7080000 | G36: =SUM(E36,F36) -> 75602495 | I36: =SUM(G36,H36) -> 75602495
A37: 29 | B37: 014700100100 | C37: Benue State Civil Service Commission | E37: ='Detail RecExp. & CapEx'!K1361 -> 5200830.1 | F37: ='Detail RecExp. & CapEx'!K1362 -> 21240000 | G37: =SUM(E37,F37) -> 26440830 | H37: ='Detail RecExp. & CapEx'!K1370 -> 70000000 | I37: =SUM(G37,H37) -> 96440830
A38: 30 | B38: 014800100100 | C38: Benue State Independent Electoral Commission (BSIEC) | D38: ='DetailSup-Rec.Rev.,2024'!H238 -> 6803478900 | E38: ='Detail RecExp. & CapEx'!K1416 -> 7.2469957e+08 | F38: ='Detail RecExp. & CapEx'!K1417 -> 4898646340 | G38: =SUM(E38,F38) -> 5.6233459e+09 | H38: ='Detail RecExp. & CapEx'!K1432 -> 3367556000 | I38: =SUM(G38,H38) -> 8.9909019e+09
A39: 31 | B39: 014900100100 | C39: Local Government Service Commission | D39: 120000000 | E39: ='Detail RecExp. & CapEx'!K1453 -> 25300564 | F39: ='Detail RecExp. & CapEx'!K1454 -> 1.2708e+08 | G39: =SUM(E39,F39) -> 1.5238056e+08 | H39: ='Detail RecExp. & CapEx'!K1462 -> 25139540 | I39: =SUM(G39,H39) -> 1.775201e+08
A40: 32 | B40: 015600100100 | C40: Ministry of Communications and Digital Economy | D40: ='DetailSup-Rec.Rev.,2024'!H142 -> 250000000 | E40: ='Detail RecExp. & CapEx'!K1516 -> 92822090 | F40: ='Detail RecExp. & CapEx'!K1517 -> 1091316900 | G40: =SUM(E40,F40) -> 1184138990 | H40: ='Detail RecExp. & CapEx'!K1535 -> 691979297 | I40: =SUM(G40,H40) -> 1876118287
A41: 33 | B41: 016100100100 | C41: Office of the Secretary to State Government (SSG) | E41: ='Detail RecExp. & CapEx'!K1571 -> 2.8808938e+09 | F41: ='Detail RecExp. & CapEx'!K1572 -> 2223522000 | G41: =SUM(E41,F41) -> 5.1044158e+09 | H41: ='Detail RecExp. & CapEx'!K1591 -> 506243900 | I41: =SUM(G41,H41) -> 5.6106597e+09
A42: 34 | B42: 016100200100 | C42: Bureau of Political - SSG | F42: ='Detail RecExp. & CapEx'!K1614 -> 12782000 | G42: =SUM(E42,F42) -> 12782000 | H42: - | I42: =SUM(G42,H42) -> 12782000
...

Sheet BudgetSect,2024
A1: BENUE STATE GOVERNMENT
A3: 2024 SUPPLEMENTARY ESTIMATES - SECTORAL ALLOCATION
A4: S/No | B4: SECTORAL CODE | C4: PUBLIC SECTOR ENTITIES (PSEs) | D4: RECURRENT REVENUE | E4: PERSONNEL COST | F4: OVERHEAD COST | G4: RECURRENT EXPENDITURE | H4: CAPITAL EXPENDITURE | I4: TOTAL ALLOCATION
C5: TOTAL: | D5: =SUM(D7,D49,D75,D82) -> 3.7302057e+11 | E5: =SUM(E7,E49,E75,E82) -> 6.775929e+10 | F5: =SUM(F7,F49,F75,F82) -> 8.6725628e+10 | G5: =SUM(G7,G49,G75,G82) -> 1.5448492e+11 | H5: =SUM(H7,H49,H75,H82) -> 2.1853565e+11 | I5: =SUM(I7,I49,I75,I82) -> 3.7302057e+11 | J5: =D5-I5 -> -0.62536621
C7: ADMINISTRATION SECTOR: | D7: =SUM(D8:D47) -> 1.3073512e+10 | E7: =SUM(E8:E45) -> 2.4758676e+10 | F7: =SUM(F8:F47) -> 4.4042149e+10 | G7: =SUM(G8:G47) -> 6.8800825e+10 | H7: =SUM(H8:H47) -> 7.6977896e+10 | I7: =SUM(I8:I47) -> 1.4577872e+11
A8: 1 | B8: 011100100100 | C8: Government House Administration | E8: ='BudgetSize,2024'!E8 -> 1.652007e+08 | F8: ='BudgetSize,2024'!F8 -> 4536586900 | G8: =SUM(E8,F8) -> 4.7017876e+09 | H8: ='BudgetSize,2024'!H8 -> 646000000 | I8: =SUM(G8,H8) -> 5.3477876e+09
A9: 2 | B9: 011100100200 | C9: Deputy Governor's Office | E9: ='BudgetSize,2024'!E9 -> 6446411.7 | F9: ='BudgetSize,2024'!F9 -> 1835469200 | G9: =SUM(E9,F9) -> 1.8419156e+09 | H9: ='BudgetSize,2024'!H9 -> 51520000 | I9: =SUM(G9,H9) -> 1.8934356e+09
A10: 3 | B10: 011100500100 | C10: Development Cooperations, Sustainable Development Goals (SDGs) | D10: ='BudgetSize,2024'!D10 -> 0 | E10: ='BudgetSize,2024'!E10 -> 0 | F10: ='BudgetSize,2024'!F10 -> 0 | G10: =SUM(E10,F10) -> 0 | H10: ='BudgetSize,2024'!H10 -> 0 | I10: =SUM(G10,H10) -> 0
A11: 4 | B11: 011100600100 | C11: Benue State Commission for Peace and Reconciliation | E11: ='BudgetSize,2024'!E11 -> 42250000 | F11: ='BudgetSize,2024'!F11 -> 291722400 | G11: =SUM(E11,F11) -> 333972400 | H11: ='BudgetSize,2024'!H11 -> 58000000 | I11: =SUM(G11,H11) -> 391972400
A12: 5 | B12: 011100800100 | C12: Benue State Emergency Management Agency (BESEMA) | D12: ='BudgetSize,2024'!D12 -> 5591636743 | E12: ='BudgetSize,2024'!E12 -> 2038658.5 | F12: ='BudgetSize,2024'!F12 -> 9502424000 | G12: =SUM(E12,F12) -> 9.5044627e+09 | H12: ='BudgetSize,2024'!H12 -> 1303000000 | I12: =SUM(G12,H12) -> 1.0807463e+10
A13: 6 | B13: 011101000100 | C13: Public Procurement Commission | D13: ='BudgetSize,2024'!D13 -> 97400000 | E13: ='BudgetSize,2024'!E13 -> - | F13: ='BudgetSize,2024'!F13 -> 12000000 | G13: =SUM(E13,F13) -> 12000000 | H13: ='BudgetSize,2024'!H13 -> 24977000 | I13: =SUM(G13,H13) -> 36977000
A14: 7 | B14: 011102000100 | C14: Benue State Social Investment Programme | E14: ='BudgetSize,2024'!E14 -> 0 | F14: ='BudgetSize,2024'!F14 -> 390130000 | G14: =SUM(E14,F14) -> 390130000 | H14: ='BudgetSize,2024'!H14 -> 1.6935222e+09 | I14: =SUM(G14,H14) -> 2.0836522e+09
A15: 8 | B15: 011102100500 | C15: Bureau of Archives, Research and Documentation | E15: ='BudgetSize,2024'!E15 -> 27856086 | F15: ='BudgetSize,2024'!F15 -> 7467000 | G15: =SUM(E15,F15) -> 35323086 | H15: ='BudgetSize,2024'!H15 -> 1830000 | I15: =SUM(G15,H15) -> 37153086
A16: 9 | B16: 011103300100 | C16: Benue State Aids Control Agency (BENSACA) | D16: ='BudgetSize,2024'!D16 -> 13500000 | E16: ='BudgetSize,2024'!E16 -> - | F16: ='BudgetSize,2024'!F16 -> 18080000 | G16: =SUM(E16,F16) -> 18080000 | H16: ='BudgetSize,2024'!H16 -> - | I16: =SUM(G16,H16) -> 18080000
A17: 10 | B17: 011103700100 | C17: Muslim Pilgrims Welfare Board (MPWB) | D17: ='BudgetSize,2024'!D17 -> 500000 | E17: ='BudgetSize,2024'!E17 -> 4176600.8 | F17: ='BudgetSize,2024'!F17 -> 4248000 | G17: =SUM(E17,F17) -> 8424600.8 | H17: ='BudgetSize,2024'!H17 -> 87000000 | I17: =SUM(G17,H17) -> 95424601
A18: 11 | B18: 011103800100 | C18: Christian Pilgrims Welfare Board (CPWB) | D18: ='BudgetSize,2024'!D18 -> 600000 | E18: ='BudgetSize,2024'!E18 -> 4176600.8 | F18: ='BudgetSize,2024'!F18 -> 4248000 | G18: =SUM(E18,F18) -> 8424600.8 | H18: ='BudgetSize,2024'!H18 -> 636300 | I18: =SUM(G18,H18) -> 9060900.8
A19: 12 | B19: 011104500100 | C19: Benue State Pension Commission | D19: ='BudgetSize,2024'!D19 -> 55000000 | E19: ='BudgetSize,2024'!E19 -> 1.7772815e+10 | F19: ='BudgetSize,2024'!F19 -> 55020000 | G19: =SUM(E19,F19) -> 1.7827835e+10 | H19: ='BudgetSize,2024'!H19 -> - | I19: =SUM(G19,H19) -> 1.7827835e+10
A20: 13 | B20: 011110100100 | C20: Bureau of Special Projects & Infrastructure | E20: ='BudgetSize,2024'!E20 -> 9570000 | F20: ='BudgetSize,2024'!F20 -> 68109000 | G20: =SUM(E20,F20) -> 77679000 | H20: ='BudgetSize,2024'!H20 -> 6.359904e+10 | I20: =SUM(G20,H20) -> 6.3676719e+10
A21: 14 | B21: 011113200100 | C21: Bureau for International Cooperation & Development | E21: ='BudgetSize,2024'!E21 -> 0 | F21: ='BudgetSize,2024'!F21 -> 195400000 | G21: =SUM(E21,F21) -> 195400000 | H21: ='BudgetSize,2024'!H21 -> 500000 | I21: =SUM(G21,H21) -> 195900000
A22: 15 | B22: 011200300100 | C22: Benue State House of Assembly | E22: ='BudgetSize,2024'!E22 -> 5.5336654e+08 | F22: ='BudgetSize,2024'!F22 -> 4.461655e+09 | G22: =SUM(E22,F22) -> 5.0150215e+09 | H22: ='BudgetSize,2024'!H22 -> 3468084506 | I22: =SUM(G22,H22) -> 8.483106e+09
A23: 16 | B23: 011200400100 | C23: Benue State House of Assembly Service Commission | E23: ='BudgetSize,2024'!E23 -> 221477945 | F23: ='BudgetSize,2024'!F23 -> 758570001 | G23: =SUM(E23,F23) -> 980047946 | H23: ='BudgetSize,2024'!H23 -> 755705000 | I23: =SUM(G23,H23) -> 1735752946
A24: 17 | B24: 012300100100 | C24: Ministry of Information, Culture and Tourism | D24: ='BudgetSize,2024'!D24 -> 38046452 | E24: ='BudgetSize,2024'!E24 -> 4.8126776e+08 | F24: ='BudgetSize,2024'!F24 -> 48076452 | G24: =SUM(E24,F24) -> 5.2934421e+08 | H24: ='BudgetSize,2024'!H24 -> 188962830 | I24: =SUM(G24,H24) -> 7.1830704e+08
A25: 18 | B25: 012300300100 | C25: Benue State Television Corporation | D25: ='BudgetSize,2024'!D25 -> 10000000 | E25: ='BudgetSize,2024'!E25 -> 56676681 | F25: ='BudgetSize,2024'!F25 -> 87771435 | G25: =SUM(E25,F25) -> 1.4444812e+08 | H25: ='BudgetSize,2024'!H25 -> 32200000 | I25: =SUM(G25,H25) -> 1.7664812e+08
A26: 19 | B26: 012300400100 | C26: Radio Benue Corporation | D26: ='BudgetSize,2024'!D26 -> 15700000 | E26: ='BudgetSize,2024'!E26 -> 3.1072371e+08 | F26: ='BudgetSize,2024'!F26 -> 49520000 | G26: =SUM(E26,F26) -> 3.6024371e+08 | I26: =SUM(G26,H26) -> 3.6024371e+08
A27: 20 | B27: 012301300100 | C27: Benue Printing and Publishing Corporation (BPPC) | D27: ='BudgetSize,2024'!D27 -> 5800000 | E27: ='BudgetSize,2024'!E27 -> 1.3231781e+08 | F27: ='BudgetSize,2024'!F27 -> 9185385 | G27: =SUM(E27,F27) -> 1.415032e+08 | I27: =SUM(G27,H27) -> 1.415032e+08
A28: 21 | B28: 012305500100 | C28: Government Printing Department | D28: ='BudgetSize,2024'!D28 -> 800000 | E28: ='BudgetSize,2024'!E28 -> 444248.48 | F28: ='BudgetSize,2024'!F28 -> 7080000 | G28: =SUM(E28,F28) -> 7524248.5 | I28: =SUM(G28,H28) -> 7524248.5
A29: 22 | B29: 012400100100 | C29: Bureau of Internal Affairs and Special Services (BIASS) | D29: ='BudgetSize,2024'!D29 -> 21800000 | E29: ='BudgetSize,2024'!E29 -> 124500000 | F29: ='BudgetSize,2024'!F29 -> 1.2833235e+10 | G29: =SUM(E29,F29) -> 1.2957735e+10 | I29: =SUM(G29,H29) -> 1.2957735e+10
A30: 23 | B30: 012500100100 | C30: Office of the Head of Service (HOS) | E30: ='BudgetSize,2024'!E30 -> 5.7470576e+08 | F30: ='BudgetSize,2024'!F30 -> 46444800 | G30: =SUM(E30,F30) -> 6.2115056e+08 | I30: =SUM(G30,H30) -> 6.2115056e+08
A31: 24 | B31: 012500100200 | C31: Bureau of Establishment and Management Services | E31: ='BudgetSize,2024'!E31 -> 3.1763351e+08 | F31: ='BudgetSize,2024'!F31 -> 67896000 | G31: =SUM(E31,F31) -> 3.8552951e+08 | I31: =SUM(G31,H31) -> 3.8552951e+08
A32: 25 | B32: 012500100500 | C32: Bureau of Service Welfare | D32: ='BudgetSize,2024'!D32 -> 40909841 | E32: ='BudgetSize,2024'!E32 -> 0 | F32: ='BudgetSize,2024'!F32 -> 180668000 | G32: =SUM(E32,F32) -> 180668000 | H32: ='BudgetSize,2024'!H32 -> 104000000 | I32: =SUM(G32,H32) -> 284668000
A33: 26 | B33: 012500500100 | C33: Bureau of Manpower Development and Training | D33: ='BudgetSize,2024'!D33 -> 5500000 | E33: ='BudgetSize,2024'!E33 -> 11674200 | F33: ='BudgetSize,2024'!F33 -> 11228000 | G33: =SUM(E33,F33) -> 22902200 | I33: =SUM(G33,H33) -> 22902200
B34: 012500600100 | C34: Benue Public service institute | F34: ='Detail RecExp. & CapEx'!K5629 -> 33600000 | G34: =SUM(E34,F34) -> 33600000 | H34: ='Detail RecExp. & CapEx'!K5644 -> 90000000 | I34: =SUM(G34,H34) -> 123600000
A35: 27 | B35: 014000100100 | C35: Office of the Auditor-General of the State | D35: ='BudgetSize,2024'!D35 -> 450000 | E35: ='BudgetSize,2024'!E35 -> 1.4191836e+08 | F35: ='BudgetSize,2024'!F35 -> 14160000 | G35: =SUM(E35,F35) -> 1.5607836e+08 | H35: ='BudgetSize,2024'!H35 -> 200000000 | I35: =SUM(G35,H35) -> 3.5607836e+08
A36: 28 | B36: 014000200100 | C36: Local Government Audit Department | D36: ='BudgetSize,2024'!D36 -> 440000 | E36: ='BudgetSize,2024'!E36 -> 68522495 | F36: ='BudgetSize,2024'!F36 -> 7080000 | G36: =SUM(E36,F36) -> 75602495 | I36: =SUM(G36,H36) -> 75602495
A37: 29 | B37: 014700100100 | C37: Benue State Civil Service Commission | E37: ='BudgetSize,2024'!E37 -> 5200830.1 | F37: ='BudgetSize,2024'!F37 -> 21240000 | G37: =SUM(E37,F37) -> 26440830 | H37: ='BudgetSize,2024'!H37 -> 70000000 | I37: =SUM(G37,H37) -> 96440830
A38: 30 | B38: 014800100100 | C38: Benue State Independent Electoral Commission (BSIEC) | D38: ='BudgetSize,2024'!D38 -> 6803478900 | E38: ='BudgetSize,2024'!E38 -> 7.2469957e+08 | F38: ='BudgetSize,2024'!F38 -> 4898646340 | G38: =SUM(E38,F38) -> 5.6233459e+09 | H38: ='BudgetSize,2024'!H38 -> 3367556000 | I38: =SUM(G38,H38) -> 8.9909019e+09
A39: 31 | B39: 014900100100 | C39: Local Government Service Commission | D39: ='BudgetSize,2024'!D39 -> 120000000 | E39: ='BudgetSize,2024'!E39 -> 25300564 | F39: ='BudgetSize,2024'!F39 -> 1.2708e+08 | G39: =SUM(E39,F39) -> 1.5238056e+08 | H39: ='BudgetSize,2024'!H39 -> 25139540 | I39: =SUM(G39,H39) -> 1.775201e+08
A40: 32 | B40: 015600100100 | C40: Ministry of Communications and Digital Economy | D40: ='BudgetSize,2024'!D40 -> 250000000 | E40: ='BudgetSize,2024'!E40 -> 92822090 | F40: ='BudgetSize,2024'!F40 -> 1091316900 | G40: =SUM(E40,F40) -> 1184138990 | H40: ='BudgetSize,2024'!H40 -> 691979297 | I40: =SUM(G40,H40) -> 1876118287
A41: 33 | B41: 016100100100 | C41: Office of the Secretary to State Government (SSG) | E41: ='BudgetSize,2024'!E41 -> 2.8808938e+09 | F41: ='BudgetSize,2024'!F41 -> 2223522000 | G41: =SUM(E41,F41) -> 5.1044158e+09 | H41: ='BudgetSize,2024'!H41 -> 506243900 | I41: =SUM(G41,H41) -> 5.6106597e+09
A42: 34 | B42: 016100200100 | C42: Bureau of Political - SSG | F42: ='BudgetSize,2024'!F42 -> 12782000 | G42: =SUM(E42,F42) -> 12782000 | I42: =SUM(G42,H42) -> 12782000
...

Sheet Revenue Brief,2024
A1: BENUE STATE GOVERNMENT
A2: 2024 SUPPLEMENTARY BUDGET REVENUE SUMMARY
A3: S/No. | B3: Economic Code | C3: Source of Revenue | D3: Revenue Estimates January-December, 2024
A4: 1 | C4: Opening Balance
B5: 11 | C5: GOVERNMENT SHARE OF FAAC
A6: 2 | B6: 11010101 | C6: Statutory Allocation | D6: 109012216496
A7: 3 | B7: 11010201 | C7: Share of VAT | D7: 5.8835946e+10
A8: 4 | B8: 11010301 | C8: Other Federation Account | D8: 5.0040884e+10
A9: 5 | B9: 11010302 | C9: FAAC Special Allocations | D9: 46940300000
C10: Sub-Total (FAAC): | D10: =SUM(D6:D9) -> 2.6482935e+11
B11: 12 | C11: INDEPENDENT REVENUE
B12: 1201 | C12: TAX REVENUE
B13: 120101 | C13: PERSONAL TAXES
A14: 6 | B14: 12010101 | C14: Pay-As-You-Earn (PAYE) | D14: 19385062017
A15: 7 | B15: 12010301 | C15: Stamp Duty | D15: 30300000
A16: 8 | B16: 12010302 | C16: Development Tax/Levy | D16: 62735000
A17: 9 | B17: 12010303 | C17: Capital Gain Tax | D17: 5882287.5
A18: 10 | B18: 12010305 | C18: Other Service Taxes | D18: 4700000000
A19: 11 | B19: 12010306 | C19: Development Levies | D19: 95025234
C20: Sub-Total (Tax Revenue): | D20: =SUM(D14:D19) -> 2.4279005e+10
B22: 1202 | C22: NON-TAX REVENUE
A23: 12 | B23: 120201 | C23: Licenses | D23: 574001917
A24: 13 | B24: 120204 | C24: Fees | D24: 5.6672565e+09
A25: 14 | B25: 120205 | C25: Fine | D25: 55359500
A26: 15 | B26: 120206 | C26: Sales | D26: 1.8989615e+09
A27: 16 | B27: 120207 | C27: Earnings | D27: 1.3579082e+09
A28: 17 | B28: 120208 | C28: Rent on Govt. Buildings | D28: 70141801
A29: 18 | B29: 120209 | C29: Rent on Land & Others | D29: 203550000
A30: 19 | B30: 120212 | C30: Interest Earned | D30: 30451216
C31: Sub-Total (Non-Tax Revenue): | D31: =SUM(D23:D30) -> 9.8576306e+09
B32: 120211 | C32: INVESTMENT INCOME
A33: 20 | B33: 12021103 | C33: Other Investment Income | D33: 305000000
C34: Sub-Total (Investment Income): | D34: =D33 -> 305000000
B36: 13 | C36: AID & GRANTS
A37: 21 | B37: 130101 | C37: Domestic Aid | D37: 600000000
A38: 22 | B38: 130102 | C38: Foreign Aid | D38: 4.1386551e+08
A39: 23 | B39: 130201 | C39: Domestic Grants | D39: 33117962380
A40: 24 | B40: 130202 | C40: Foreign Grants | D40: 8.099589e+09
C41: Sub-Total (Aid & Grants): | D41: =SUM(D37:D40) -> 42231416907
B43: 14 | C43: CAPITAL DEV. FUND (CDF) RECEIPTS
...

Sheet DetailSup-Rec.Rev.,2024
B3: BENUE STATE GOVERNMENT
B4: 2024 SUPPLEMENTARY BUDGET
D5: 2024 APPROVED SUPPLEMENTARY REVENUE ESTIMATES
B7: 11100500100 | C7: DEVELOPMENT COOPERATIONS, SUSTAINABLE DEVELOPMENT GOALS (SDGS)
B8: RECURRENT REVENUE
B9: Economic Code | C9: Fund Code | D9: Source of Revenue | E9: 2024 Approved Estimates | F9: 2024 Actual Expenditure Jan. - June | G9: 2024 Approved Supplementary Revenue Estimates | H9: 2024 Approved Revised Revenue Estimates
B10: 13020101 | C10: 08304 | D10: CURRENT DOMESTIC GRANTS | E10: 298000000 | G10: =H10-E10 -> -298000000
B11: 13020202 | C11: 08304 | D11: CAPITAL FOREIGN GRANTS | E11: 4246000000 | G11: =H11-E11 -> -4246000000
D12: TOTAL RECURRENT REVENUE | E12: =SUM(E10:E11) -> 4544000000 | F12: =SUM(F10:F11) -> 0 | G12: =SUM(G10:G11) -> -4544000000 | H12: =SUM(H10:H11) -> 0
G14: TOTAL REVENUE | H14: =H12 -> 0
B16: 027000100100 | C16: MINISTRY OF INDUSTRY TRADE AND INVESTEMENT
B17: RECURRENT REVENUE
B18: Economic Code | C18: Fund Code | D18: Source of Revenue | E18: 2024 Approved Estimates | F18: 2024 Actual Expenditure Jan. - June | G18: 2024 Approved Supplementary Revenue Estimates | H18: 2024 Approved Revised Revenue Estimates
B19: 12020442 | C19: 2101 | D19: ASSOCIATION FEES | E19: 69016015 | H19: =E19+G19 -> 69016015
B20: 12020449 | C20: 2101 | D20: BUSINESS/TRADE OPERATING FEES | E20: 12000000 | H20: =E20+G20 -> 12000000
B21: 12020620 | C21: 2101 | D21: SALES OF OTHER GOVERNMENT PROPERTIES | E21: 1000000000 | G21: 3.9567321e+08 | H21: =E21+G21 -> 1.3956732e+09
B22: 12020711 | C22: 2101 | D22: EARNINGS FROM COMMERCIAL ACTIVITIES | E22: 209720960 | G22: 100208444 | H22: =E22+G22 -> 309929404
B23: 12020906 | C23: 2101 | D23: RENTS ON GOVT. PROPERTIES | E23: 50000000 | H23: =E23+G23 -> 50000000
B24: 12021208 | C24: 08111 | D24: INTEREST ON LOANS TO GOVERNMENT OWNED COMPANIES | E24: 1691860 | G24: 11204356 | H24: =E24+G24 -> 12896216
B25: 14030201 | C25: 08111 | D25: INTERNATIONAL LOANS/ BORROWINGS FROM FINANCIAL INSTITUTIONS | E25: 3873000000 | G25: -2e+09 | H25: =E25+G25 -> 1.873e+09
D26: TOTAL RECURRENT REVENUE | E26: =SUM(E19:E25) -> 5.2154288e+09 | F26: =SUM(F19:F25) -> 0 | G26: =SUM(G19:G25) -> -1.492914e+09 | H26: =SUM(H19:H25) -> 3.7225148e+09
G28: TOTAL REVENUE | H28: =H26 -> 3.7225148e+09
B31: 25200100100 | C31: MINISTRY OF WATER RESOURCES AND ENVIRONMENT
B32: RECURRENT REVENUE
B33: Economic Code | C33: Fund Code | D33: Source of Revenue | E33: 2024 Approved Estimates | F33: 2024 Actual Expenditure Jan. - June | G33: 2024 Approved Supplementary Revenue Estimates | H33: 2024 Approved Revised Revenue Estimates
B34: 12020114 | C34: 2101 | D34: DANE GUN LICENSES | E34: 250000 | H34: =SUM(E34,G34) -> 250000
B35: 12020121 | C35: 2101 | D35: HUNTING PERMITS | E35: 250000 | H35: =SUM(E35,G35) -> 250000
B36: 12020127 | C36: 2101 | D36: BOREHOLE DRILLING LICENSES | E36: 50000000 | H36: =SUM(E36,G36) -> 50000000
B37: 12020424 | C37: 2101 | D37: ACCREDITATION FEES | E37: 5000000 | H37: =SUM(E37,G37) -> 5000000
B38: 12020430 | C38: 2101 | D38: PROFESSIONAL REGISTRATION FEES | E38: 22000000 | H38: =SUM(E38,G38) -> 22000000
B39: 12020431 | C39: 2101 | D39: ENVIRONMENTAL IMPACT ASSESSMENT FEES | E39: 10000000 | H39: =SUM(E39,G39) -> 10000000
B40: 12020436 | C40: 2101 | D40: BILL BOARD ADVERTISEMENT FEES | G40: 2400000 | H40: =SUM(E40,G40) -> 2400000
B41: 12020451 | C41: 2101 | D41: TIMBER & FOREST FEES | E41: 30000000 | H41: =SUM(E41,G41) -> 30000000
B42: 12020711 | C42: 2101 | D42: EARNINGS FROM COMMERCIAL ACTIVITIES | E42: 1472000 | H42: =SUM(E42,G42) -> 1472000
B43: 12020803 | C43: 2101 | D43: RENT ON GOVT BUILDINGS | E43: 1400000 | H43: =SUM(E43,G43) -> 1400000
D44: TOTAL RECURRENT REVENUE | E44: =SUM(E34:E43) -> 120372000 | F44: =SUM(F34:F43) -> 0 | G44: =SUM(G34:G43) -> 2400000 | H44: =SUM(H34:H43) -> 122772000
G46: TOTAL REVENUE | H46: =H44 -> 122772000
B49: 052102700100 | C49: BENUE STATE PRIMARY HEALTH CARE BOARD
B50: RECURRENT REVENUE
B51: Economic Code | C51: Fund Code | D51: Source of Revenue | E51: 2024 Approved Estimates | F51: 2024 Actual Expenditure Jan. - June | G51: 2024 Approved Supplementary Revenue Estimates | H51: 2024 Approved Revised Revenue Estimates
...

Sheet Budget Framework,2024
B2: BENUE STATE GOVERNMENT
B4: 2024 SUPPLEMENTARY BUDGET FRAMEWORK
B5: S/No. | C5: Source of Revenue | D5: 2024 Revenue Estimates January- December | E5: o/w COVID-responsive* (in 2022 )
B6: 1 | C6: Opening Balance
C7: RECEIPTS:
B8: 2 | C8: Statutory Allocation | D8: ='Revenue Brief,2024'!D6 -> 109012216496
B9: 3 | C9: FAAC Special Allocations | D9: ='Revenue Brief,2024'!D9 -> 46940300000
B10: 4 | C10: Share of VAT | D10: ='Revenue Brief,2024'!D7 -> 5.8835946e+10
B11: 5 | C11: Other Federation Account | D11: ='Revenue Brief,2024'!D8 -> 5.0040884e+10
D12: =SUM(D8:D11) -> 2.6482935e+11
C13: INDEPENDENT REVENUE
B14: 6 | C14: Tax Revenue | D14: ='Revenue Brief,2024'!D20 -> 2.4279005e+10
B15: 7 | C15: Non-Tax Revenue | D15: ='Revenue Brief,2024'!D31 -> 9.8576306e+09
D16: =SUM(D14:D15) -> 34136635162
C18: TOTAL PROJECTED FUNDS: | D18: =SUM(D12,D16) -> 2.9896598e+11
C19: OTHER RECEIPTS/REVENUE
B20: 8 | C20: Domestic Aid | D20: ='Revenue Brief,2024'!D37 -> 600000000
B21: 9 | C21: Domestic Grant | D21: ='Revenue Brief,2024'!D39 -> 33117962380
B22: 10 | C22: Foreign Aid | D22: ='Revenue Brief,2024'!D38 -> 4.1386551e+08
B23: 11 | C23: Foreign Grant | D23: ='Revenue Brief,2024'!D40 -> 8.099589e+09
B24: 12 | C24: Other Capital Receipts | D24: ='Revenue Brief,2024'!D44 -> 827168864
C25: Other Investment Income | D25: ='Revenue Brief,2024'!D33 -> 305000000
D26: =SUM(D20:D25) -> 43363585771
C27: DEFICIT FINANCING:
B28: 13 | C28: Domestic Loans/Bond/Deficit Financing | D28: ='Revenue Brief,2024'!D46+'Revenue Brief,2024'!D45 -> 30691000000
D29: =D28 -> 30691000000
C30: EXPENDITURE:
B31: 14 | C31: Debt Payments Local | D31: 7.1429724e+09
B32: 15 | C32: Debt Payments Foreign | D32: 1.2803143e+09
B33: 16 | C33: Pension | D33: 12383235057
B34: 17 | C34: Gratuity | D34: 2341525372
B35: 18 | C35: Death benefits | D35: 1.1290464e+08
B36: 19 | C36: NHIS Contribution | D36: 1.7382399e+09
B37: 20 | C37: Contributory Pension | D37: 2.1185013e+09
B38: 21 | C38: Group Life Insurance | D38: 1070000000
B39: 22 | C39: Employee Compensation Fund | D39: 1.5767761e+09
B40: 23 | C40: Personnel Costs | D40: 4.6618108e+10
B41: 24 | C41: Overhead Costs | D41: 7.8102341e+10
C42: CAPITAL
B43: 23 | C43: ADMINISTRATION SECTOR: | D43: ='BudgetSect,2024'!H7 -> 7.6977896e+10
...

Sheet Detail RecExp. & CapEx
B1: BENUE STATE GOVERNMENT
B2: 2024 SUPPLEMENTARY BUDGET
B4: 011100100100 | C4: GOVERNMENT HOUSE MAKURDI
B5: RECURRENT EXPENDITURE
B6: Economic Code | C6: Functional Code | D6: Programme Code | E6: Funds Code | F6: Geo. Code | G6: Item of Expenditure | H6: 2024 Approved Estimates | I6: ACTUAL EXPENDITURE JAN. - JUNE 2024 | J6: 2024 Approved Supplementary Recurrent Estimates | K6: 2024 Approved Revised Recurrent Estimates
B7: 21010103 | C7: 70111 | D7: 131001 | E7: 2204 | F7: 10721300 | G7: CONSOLIDATED REVENUE FUND CHARGE- SALARIES | H7: 1.152007e+08 | I7: 56897053 | J7: 0 | K7: =SUM(H7,J7) -> 1.152007e+08
B8: 21020101 | C8: 70111 | D8: 131001 | E8: 2101 | F8: 10742400 | G8: NON REGULAR ALLOWANCES | H8: 50000000 | I8: 452200 | J8: 0 | K8: =SUM(H8,J8) -> 50000000
B9: 22020101 | C9: 70111 | D9: 131001 | E9: 2101 | F9: 10742400 | G9: LOCAL TRAVEL & TRANSPORT: TRAINING | H9: 862400 | I9: 500000 | J9: 3137600 | K9: =SUM(H9,J9) -> 4000000
B10: 22020102 | C10: 70111 | D10: 131001 | E10: 2101 | F10: 10742400 | G10: LOCAL TRAVEL & TRANSPORT: OTHERS | H10: 280000000 | I10: 34553900 | J10: 1500000 | K10: =SUM(H10,J10) -> 281500000
B11: 22020201 | C11: 70111 | D11: 131001 | E11: 2101 | F11: 10742400 | G11: ELECTRICITY CHARGES | H11: 26515566 | I11: 18751368 | J11: 60484434 | K11: =SUM(H11,J11) -> 87000000
B12: 22020203 | C12: 70111 | D12: 131001 | E12: 2101 | F12: 10742400 | G12: INTERNET ACCESS CHARGES | H12: 5600000 | I12: 1694200 | J12: 0 | K12: =SUM(H12,J12) -> 5600000
B13: 22020204 | C13: 70111 | D13: 131001 | E13: 2101 | F13: 10742400 | G13: SATELLITE BROADCASTING ACCESS CHARGES | H13: 64000000 | I13: 1595000 | J13: 0 | K13: =SUM(H13,J13) -> 64000000
B14: 22020206 | C14: 70111 | D14: 131001 | E14: 2101 | F14: 10742400 | G14: SEWERAGE CHARGES | H14: 840000 | I14: 0 | J14: 1500000 | K14: =SUM(H14,J14) -> 2340000
B15: 22020301 | C15: 70111 | D15: 131001 | E15: 2101 | F15: 10742400 | G15: OFFICE STATIONERIES / COMPUTER CONSUMABLES | H15: 5600000 | I15: 5442700 | J15: 6580000 | K15: =SUM(H15,J15) -> 12180000
B16: 22020303 | C16: 70111 | D16: 131001 | E16: 2101 | F16: 10742400 | G16: NEWSPAPERS | H16: 2680000 | I16: 179500 | J16: 2000000 | K16: =SUM(H16,J16) -> 4680000
B17: 22020305 | C17: 70111 | D17: 131001 | E17: 2101 | F17: 10742400 | G17: PRINTING OF NON SECURITY DOCUMENTS | H17: 2800000 | I17: 500000 | J17: 3000000 | K17: =SUM(H17,J17) -> 5800000
B18: 22020306 | C18: 70111 | D18: 131001 | E18: 2101 | F18: 10742400 | G18: PRINTING OF SECURITY DOCUMENTS | H18: 1750000 | I18: 1675000 | J18: 0 | K18: =SUM(H18,J18) -> 1750000
... B42: 22040109 | C42: 70111 | D42: 131001 | E42: 2101 | F42: 10742400 | G42: GRANTS TO COMMUNITIES/NGOs | H42: 2457386000 | I42: 638685980 | J42: 8500000 | K42: =SUM(H42,J42) -> 2465886000
G43: TOTAL RECURRENT EXPENDITURE: | H43: =SUM(H7:H42) -> 4.5708356e+09 | I43: =SUM(I7:I42) -> 1.2902662e+09 | J43: =SUM(J7:J42) -> 130952034 | K43: =SUM(K7:K42) -> 4.7017876e+09
J45: Personnel Cost | K45: =K7+K8 -> 1.652007e+08
J46: Overhead Cost | K46: =K43-K45 -> 4536586900
B48: 011100100100 | C48: GOVERNMENT HOUSE MAKURDI
B49: CAPITAL EXPENDITURE
B50: Economic Code | C50: Functional Code | D50: Programme Code | E50: Funds Code | F50: Geo. Code | G50: Item of Expenditure | H50: 2024 Approved Estimates | I50: 2024 ACTUAL EXPENDITURE JAN. - JUNE. | J50: 2024 Approved Supplementary Capital Estimates | K50: 2024 Approved Revised Capital Estimates
B51: 23010112 | C51: 70111 | D51: 13100122000100 | E51: 3101 | F51: 10742400 | G51: PURCHASE OF OFFICE FURNITURE AND FITTINGS: Purchase of 10N0 Executive Chairs & Tables for government house makurdi | H51: 15000000 | J51: 5500000 | K51: =SUM(H51,J51) -> 20500000
B52: 23010113 | C52: 70111 | D52: 11100123000100 | E52: 3101 | F52: 10742400 | G52: PURCHASE OF 5N0 HP Elitebook LAPTOP COMPUTER | H52: 2000000 | I52: 750000 | K52: =SUM(H52,J52) -> 2000000
B53: 23010115 | C53: 70111 | D53: 11100123000200 | E53: 3101 | F53: 10742400 | G53: PURCHASE OF 3N0 HP Laser Jet CP5225 Printer | H53: 5000000 | J53: -5000000 | K53: =SUM(H53,J53) -> 0
B54: 23010115 | C54: 70111 | D54: 11100123000300 | E54: 3101 | F54: 10742400 | G54: PURCHASE OF 2N0 Konica Minolta BizHub C554e PHOTOCOPYING MACHINE | H54: 5000000 | I54: 538000 | J54: 500000 | K54: =SUM(H54,J54) -> 5500000
B55: 23010119 | C55: 70111 | D55: 14100123000100 | E55: 3101 | F55: 10742400 | G55: PURCHASE OF POWER GENERATING SETS: 1No.650KVA Mikano sound proof generator for government house makurdi | H55: 95000000 | J55: 0 | K55: =SUM(H55,J55) -> 95000000
B56: 23010112 | C56: 70111 | D56: 11100123000400 | E56: 3101 | F56: 10742400 | G56: PURCHASE OF OFFICE FURNITURE AND FITTINGS: Purchase of Media & Publicity Equipment for Office of the Press Secretary, Government House. | H56: 512500000 | I56: 103242000 | J56: 10500000 | K56: =SUM(H56,J56) -> 523000000
G57: TOTAL CAPITAL EXPENDITURE: | H57: =SUM(H51:H56) -> 634500000 | I57: =SUM(I51:I56) -> 104530000 | J57: =SUM(J51:J56) -> 11500000 | K57: =SUM(K51:K56) -> 646000000
J59: TOTAL CAPITAL | K59: =K57 -> 646000000
B61: 11100100200 | C61: DEPUTY GOVERNOR'S OFFICE
B62: RECURRENT EXPENDITURE
B63: Economic Code | C63: Functional Code | D63: Programme Code | E63: Funds Code | F63: Geo. Code | G63: Item of Expenditure | H63: 2024 Approved Estimates | I63: 2024 ACTUAL EXPENDITURE JAN. - JUNE 2024 | J63: 2024 Approved Supplementary Recurrent Estimates | K63: 2024 Approved Revised Recurrent Estimates
B64: 21010103 | C64: 70111 | D64: 131001 | E64: 2204 | F64: 10721300 | G64: CONSOLIDATED REVENUE FUND CHARGE- SALARIES | H64: 6446411.7 | I64: 4118716.1 | K64: =SUM(H64,J64) -> 6446411.7
B65: 22020101 | C65: 70111 | D65: 131001 | E65: 2101 | F65: 10742400 | G65: LOCAL TRAVEL & TRANSPORT: TRAINING | H65: 1600000 | I65: 0 | K65: =SUM(H65,J65) -> 1600000
B66: 22020102 | C66: 70111 | D66: 131001 | E66: 2101 | F66: 10742400 | G66: LOCAL TRAVEL & TRANSPORT: OTHERS | H66: 120000000 | I66: 15241000 | K66: =SUM(H66,J66) -> 120000000
B67: 22020201 | C67: 70111 | D67: 131001 | E67: 2101 | F67: 10742400 | G67: ELECTRICITY CHARGES | H67: 8000000 | I67: 0 | K67: =SUM(H67,J67) -> 8000000
B68: 22020202 | C68: 70111 | D68: 131001 | E68: 2101 | F68: 10742400 | G68: TELEPHONE CHARGES | H68: 3000000 | I68: 575000 | K68: =SUM(H68,J68) -> 3000000
...

Sheet Summary of Suppl.Est.
C1: BENUE STATE GOVERNMENT
C3: Summary of 2024 Supplementary Estimates (Revenue, Recurrent and Capital Expenditure)
A4: S/No | B4: Organizational Code | C4: Public Sector Entities (PSEs) | D4: 2024 Approved Revenue Estimates | E4: 2024 Supplementary Estimates (Recurrent Revenue) | F4: 2024 Revised Revenue Estimates | G4: 2024 Supplementary Estimates (Recurrent Expenditure) | H4: 2024 Supplementary Estimates (Capital Expenditure) | I4: 2024 Approved Supplementary Estimates (Total Recurrent & Capital Expenditure) | J4: MDAs Recurrent Actuals Jan. - June 2024 | K4: MDAs Capital Actuals Jan. - June 2024 | L4: Proposed 2024 REC.EXP & CAP.EXP Supplementary Performance By MDAs | M4: 2024 Approved Estimates | N4: 2024 Revised Estimates
B5: TOTAL: | D5: =SUM(D6:D102) -> 2.257274e+11 | E5: =SUM(E6:E102) -> 1.4759317e+11 | F5: =SUM(F6:F102) -> 3.7332057e+11 | G5: =SUM(G6:G102) -> 4.4300716e+10 | H5: =SUM(H6:H102) -> 1.0756656e+11 | I5: =SUM(I6:I102) -> 1.5186728e+11 | J5: =SUM(J6:J102) -> 4.358138e+10 | K5: =SUM(K6:K102) -> 3.4312485e+10 | L5: =P5 -> 7.7893865e+10 | M5: =SUM(M6:M102) -> 2.2115329e+11 | N5: =SUM(N6:N102) -> 3.7302057e+11 | P5: =J5+K5 -> 7.7893865e+10
A6: 1 | B6: 011100100100 | C6: Government House Administration | F6: =SUM(D6,E6) -> 0 | G6: ='Detail RecExp. & CapEx'!J43 -> 130952034 | H6: ='Detail RecExp. & CapEx'!J57 -> 11500000 | I6: =G6+H6 -> 142452034 | J6: ='Detail RecExp. & CapEx'!I43 -> 1.2902662e+09 | K6: ='Detail RecExp. & CapEx'!I57 -> 104530000 | L6: =J6+K6 -> 1.3947962e+09 | M6: 5.2053356e+09 | N6: =SUM(I6,M6) -> 5.3477876e+09 | Q6: Government House Administration
A7: 2 | B7: 011100100200 | C7: Deputy Governor's Office | F7: =SUM(D7,E7) -> 0 | G7: ='Detail RecExp. & CapEx'!J103 -> 0 | H7: ='Detail RecExp. & CapEx'!J114 -> 0 | I7: =G7+H7 -> 0 | J7: ='Detail RecExp. & CapEx'!I103 -> 4.1130648e+08 | K7: ='Detail RecExp. & CapEx'!I114 -> 0 | L7: =J7+K7 -> 4.1130648e+08 | M7: 1.8934356e+09 | N7: =SUM(I7,M7) -> 1.8934356e+09 | Q7: Deputy Governor's Office
A8: 3 | B8: 011100500100 | C8: Development Cooperations, Sustainable Development Goals (SDGs) | D8: 4544000000 | E8: ='DetailSup-Rec.Rev.,2024'!G12 -> -4544000000 | F8: =SUM(D8,E8) -> 0 | G8: ='Detail RecExp. & CapEx'!J202 -> 0 | H8: ='Detail RecExp. & CapEx'!J221 -> 0 | I8: =G8+H8 -> 0 | J8: ='Detail RecExp. & CapEx'!I202 -> 200718.07 | K8: ='Detail RecExp. & CapEx'!I221 -> 0 | L8: =J8+K8 -> 200718.07 | N8: =SUM(I8,M8) -> 0 | Q8: Development Cooperations, Sustainable Development Goals (SDGs)
A9: 4 | B9: 011100600100 | C9: Benue State Commission for Peace and Reconciliation | F9: =SUM(D9,E9) -> 0 | G9: ='Detail RecExp. & CapEx'!J618 -> 0 | H9: ='Detail RecExp. & CapEx'!J630 -> 0 | I9: =G9+H9 -> 0 | J9: ='Detail RecExp. & CapEx'!I618 -> 0 | K9: ='Detail RecExp. & CapEx'!I630 -> 0 | L9: =J9+K9 -> 0 | M9: 391972400 | N9: =SUM(I9,M9) -> 391972400 | Q9: Benue State Commission for Peace and Reconciliation
A10: 5 | B10: 011100800100 | C10: Benue State Emergency Management Agency (BESEMA) | D10: 3040000000 | E10: ='DetailSup-Rec.Rev.,2024'!G123 -> 2551636743 | F10: =SUM(D10,E10) -> 5591636743 | G10: ='Detail RecExp. & CapEx'!J297 -> 6500000000 | H10: ='Detail RecExp. & CapEx'!J310 -> 1260000000 | I10: =G10+H10 -> 7760000000 | J10: ='Detail RecExp. & CapEx'!I297 -> 4.1872157e+09 | K10: ='Detail RecExp. & CapEx'!I310 -> 0 | L10: =J10+K10 -> 4.1872157e+09 | M10: 3.0474627e+09 | N10: =SUM(I10,M10) -> 1.0807463e+10 | Q10: Benue State Emergency Management Agency (BESEMA)
A11: 6 | B11: 011101000100 | C11: Public Procurement Commission | D11: 97400000 | F11: =SUM(D11,E11) -> 97400000 | G11: ='Detail RecExp. & CapEx'!J351 -> 12000000 | H11: ='Detail RecExp. & CapEx'!J364 -> 0 | I11: =G11+H11 -> 12000000 | J11: ='Detail RecExp. & CapEx'!I351 -> 0 | K11: ='Detail RecExp. & CapEx'!I364 -> 0 | L11: =J11+K11 -> 0 | M11: 24977000 | N11: =SUM(I11,M11) -> 36977000 | Q11: Public Procurement Commission
B12: 011102000100 | C12: Benue State Social Investment Programme | G12: ='Detail RecExp. & CapEx'!J5573 -> 390130000 | H12: ='Detail RecExp. & CapEx'!J5589 -> 1.6935222e+09 | I12: =G12+H12 -> 2.0836522e+09 | L12: =J12+K12 -> 0 | N12: =SUM(I12,M12) -> 2.0836522e+09 | Q12: Benue State Social Investment Programme
A13: 7 | B13: 011102100500 | C13: Bureau of Archives, Research and Documentation | F13: =SUM(D13,E13) -> 0 | G13: ='Detail RecExp. & CapEx'!J400 -> 387000 | H13: ='Detail RecExp. & CapEx'!J409 -> 0 | I13: =G13+H13 -> 387000 | J13: ='Detail RecExp. & CapEx'!I400 -> 12981964 | K13: ='Detail RecExp. & CapEx'!J409 -> 0 | L13: =J13+K13 -> 12981964 | M13: 36766086 | N13: =SUM(I13,M13) -> 37153086 | Q13: Bureau of Archives, Research and Documentation
A14: 8 | B14: 011103300100 | C14: Benue State Aids Control Agency (BENSACA) | D14: 13500000 | F14: =SUM(D14,E14) -> 13500000 | G14: ='Detail RecExp. & CapEx'!J447 -> 0 | I14: =G14+H14 -> 0 | J14: ='Detail RecExp. & CapEx'!I447 -> 1000129 | L14: =J14+K14 -> 1000129 | M14: 18080000 | N14: =SUM(I14,M14) -> 18080000 | Q14: Benue State Aids Control Agency (BENSACA)
A15: 9 | B15: 011103700100 | C15: Muslim Pilgrims Welfare Board (MPWB) | D15: 500000 | F15: =SUM(D15,E15) -> 500000 | G15: ='Detail RecExp. & CapEx'!J474 -> 0 | H15: ='Detail RecExp. & CapEx'!J485 -> 0 | I15: =G15+H15 -> 0 | J15: ='Detail RecExp. & CapEx'!I474 -> 2623553.9 | K15: ='Detail RecExp. & CapEx'!I485 -> 0 | L15: =J15+K15 -> 2623553.9 | M15: 95424601 | N15: =SUM(I15,M15) -> 95424601 | Q15: Muslim Pilgrims Welfare Board (MPWB)
A16: 10 | B16: 011103800100 | C16: Christian Pilgrims Welfare Board (CPWB) | D16: 600000 | F16: =SUM(D16,E16) -> 600000 | G16: ='Detail RecExp. & CapEx'!J513 -> 0 | H16: ='Detail RecExp. & CapEx'!J522 -> 0 | I16: =G16+H16 -> 0 | J16: ='Detail RecExp. & CapEx'!I513 -> 1317998.8 | K16: ='Detail RecExp. & CapEx'!I522 -> 0 | L16: =J16+K16 -> 1317998.8 | M16: 9060900.8 | N16: =SUM(I16,M16) -> 9060900.8 | Q16: Christian Pilgrims Welfare Board (CPWB)
A17: 11 | B17: 011104500100 | C17: Benue State Pension Commission | D17: 10000000 | E17: ='DetailSup-Rec.Rev.,2024'!G80 -> 45000000 | F17: =SUM(D17,E17) -> 55000000 | G17: ='Detail RecExp. & CapEx'!J577 -> 3526700000 | I17: =G17+H17 -> 3526700000 | J17: ='Detail RecExp. & CapEx'!I577 -> 6.6922022e+09 | L17: =J17+K17 -> 6.6922022e+09 | M17: 1.4301135e+10 | N17: =SUM(I17,M17) -> 1.7827835e+10 | Q17: Benue State Pension Commission
A18: 12 | B18: 011110100100 | C18: Bureau of Special Projects & Infrastructure | F18: =SUM(D18,E18) -> 0 | G18: ='Detail RecExp. & CapEx'!J673 -> 77679000 | H18: ='Detail RecExp. & CapEx'!J689 -> 6.359904e+10 | I18: =G18+H18 -> 6.3676719e+10 | L18: =J18+K18 -> 0 | N18: =SUM(I18,M18) -> 6.3676719e+10 | Q18: Bureau of Special Projects & Infrastructure
A19: 13 | B19: 011113200100 | C19: Bureau for International Cooperation & Development | F19: =SUM(D19,E19) -> 0 | G19: ='Detail RecExp. & CapEx'!K160 -> 195400000 | H19: ='Detail RecExp. & CapEx'!K169 -> 500000 | I19: =G19+H19 -> 195900000 | L19: =J19+K19 -> 0 | N19: =SUM(I19,M19) -> 195900000 | Q19: Bureau for International Cooperation & Development
A20: 14 | B20: 011200300100 | C20: Benue State House of Assembly | F20: =SUM(D20,E20) -> 0 | G20: ='Detail RecExp. & CapEx'!J741 -> 2.0609163e+09 | H20: ='Detail RecExp. & CapEx'!J772 -> 756032506 | I20: =G20+H20 -> 2.8169488e+09 | J20: ='Detail RecExp. & CapEx'!I741 -> 1.2465885e+09 | K20: ='Detail RecExp. & CapEx'!I772 -> 0 | L20: =G20+H20 -> 2.8169488e+09 | M20: 5.6661572e+09 | N20: =SUM(I20,M20) -> 8483106038 | Q20: Benue State House of Assembly
A21: 15 | B21: 011200400100 | C21: Benue State House of Assembly Service Commission | F21: =SUM(D21,E21) -> 0 | G21: ='Detail RecExp. & CapEx'!J815 -> 8.5624897e+08 | H21: ='Detail RecExp. & CapEx'!J832 -> 362157000 | I21: =G21+H21 -> 1.218406e+09 | J21: ='Detail RecExp. & CapEx'!I815 -> 89462805 | K21: ='Detail RecExp. & CapEx'!I832 -> 25473000 | L21: =J21+K21 -> 1.149358e+08 | M21: 5.1734697e+08 | N21: =SUM(I21,M21) -> 1735752946 | Q21: Benue State House of Assembly Service Commission
A22: 16 | B22: 012300100100 | C22: Ministry of Information, Culture and Tourism | D22: 38046452 | F22: =SUM(D22,E22) -> 38046452 | G22: ='Detail RecExp. & CapEx'!J870 -> 2.3623703e+08 | H22: ='Detail RecExp. & CapEx'!J885 -> -550000000 | I22: =G22+H22 -> -3.1376297e+08 | J22: ='Detail RecExp. & CapEx'!I870 -> 2.5342175e+08 | K22: ='Detail RecExp. & CapEx'!I885 -> 84656220 | L22: =J22+K22 -> 3.3807797e+08 | M22: 1.03207e+09 | N22: =SUM(I22,M22) -> 7.1830704e+08 | Q22: Ministry of Information, Culture and Tourism
A23: 17 | B23: 012300300100 | C23: Benue State Television Corporation | D23: 10000000 | F23: =SUM(D23,E23) -> 10000000 | G23: ='Detail RecExp. & CapEx'!J938 -> 50665368 | H23: ='Detail RecExp. & CapEx'!J956 -> -3000000 | I23: =G23+H23 -> 47665368 | J23: ='Detail RecExp. & CapEx'!I938 -> 48336223 | K23: ='Detail RecExp. & CapEx'!I956 -> 0 | L23: =J23+K23 -> 48336223 | M23: 1.2898275e+08 | N23: =SUM(I23,M23) -> 1.7664812e+08 | Q23: Benue State Television Corporation
A24: 18 | B24: 012300400100 | C24: Radio Benue Corporation | D24: 15700000 | F24: =SUM(D24,E24) -> 15700000 | G24: ='Detail RecExp. & CapEx'!J996 -> 31670000 | I24: =G24+H24 -> 31670000 | J24: ='Detail RecExp. & CapEx'!I996 -> 1.6012554e+08 | L24: =J24+K24 -> 1.6012554e+08 | M24: 3.2857371e+08 | N24: =SUM(I24,M24) -> 3.6024371e+08 | Q24: Radio Benue Corporation
A25: 19 | B25: 012301300100 | C25: Benue Printing and Publishing Corporation (BPPC) | D25: 5800000 | F25: =SUM(D25,E25) -> 5800000 | G25: ='Detail RecExp. & CapEx'!J1030 -> 2105385 | I25: =G25+H25 -> 2105385 | J25: ='Detail RecExp. & CapEx'!I1030 -> 60658586 | L25: =J25+K25 -> 60658586 | M25: 1.3939781e+08 | N25: =SUM(I25,M25) -> 1.415032e+08 | Q25: Benue Printing and Publishing Corporation (BPPC)
A26: 20 | B26: 012305500100 | C26: Government Printing Department | D26: 800000 | F26: =SUM(D26,E26) -> 800000 | G26: ='Detail RecExp. & CapEx'!J1065 -> 0 | I26: =G26+H26 -> 0 | J26: ='Detail RecExp. & CapEx'!I1065 -> 240883.5 | L26: =J26+K26 -> 240883.5 | M26: 7524248.5 | N26: =SUM(I26,M26) -> 7524248.5 | Q26: Government Printing Department
A27: 21 | B27: 012400100100 | C27: Bureau of Internal Affairs and Special Services (BIASS) | D27: 21700000 | E27: ='DetailSup-Rec.Rev.,2024'!G92 -> 100000 | F27: =SUM(D27,E27) -> 21800000 | G27: ='Detail RecExp. & CapEx'!J1103 -> 2.1493346e+09 | I27: =G27+H27 -> 2.1493346e+09 | J27: ='Detail RecExp. & CapEx'!I1103 -> 1.2578583e+08 | L27: =J27+K27 -> 1.2578583e+08 | M27: 10808400000 | N27: =SUM(I27,M27) -> 1.2957735e+10 | Q27: Bureau of Internal Affairs and Special Services (BIASS)
A28: 22 | B28: 012500100100 | C28: Office of the Head of Service (HOS) | F28: =SUM(D28,E28) -> 0 | G28: ='Detail RecExp. & CapEx'!J1144 -> 0 | I28: =G28+H28 -> 0 | J28: ='Detail RecExp. & CapEx'!I1144 -> 2.3381611e+08 | L28: =J28+K28 -> 2.3381611e+08 | M28: 6.2115056e+08 | N28: =SUM(I28,M28) -> 6.2115056e+08 | Q28: Office of the Head of Service (HOS)
A29: 23 | B29: 012500100200 | C29: Bureau of Establishment and Management Services | F29: =SUM(D29,E29) -> 0 | G29: ='Detail RecExp. & CapEx'!J1176 -> 59400000 | I29: =G29+H29 -> 59400000 | J29: ='Detail RecExp. & CapEx'!I1176 -> 1.8359844e+08 | L29: =J29+K29 -> 1.8359844e+08 | M29: 3.2612951e+08 | N29: =SUM(I29,M29) -> 3.8552951e+08 | Q29: Bureau of Establishment and Management Services
A30: 24 | B30: 012500100500 | C30: Bureau of Service Welfare | D30: 40909841 | F30: =SUM(D30,E30) -> 40909841 | G30: ='Detail RecExp. & CapEx'!J1212 -> 0 | H30: ='Detail RecExp. & CapEx'!J1225 -> -893000000 | I30: =G30+H30 -> -893000000 | J30: ='Detail RecExp. & CapEx'!I1212 -> 20295000 | K30: ='Detail RecExp. & CapEx'!I1225 -> 0 | L30: =J30+K30 -> 20295000 | M30: 1177668000 | N30: =SUM(I30,M30) -> 284668000 | Q30: Bureau of Service Welfare
A31: 25 | B31: 012500500100 | C31: Bureau of Manpower Development and Training | D31: 5500000 | F31: =SUM(D31,E31) -> 5500000 | G31: ='Detail RecExp. & CapEx'!J1252 -> 0 | I31: =G31+H31 -> 0 | J31: ='Detail RecExp. & CapEx'!I1252 -> 6407952.7 | L31: =J31+K31 -> 6407952.7 | M31: 22902200 | N31: =SUM(I31,M31) -> 22902200 | Q31: Bureau of Manpower Development and Training
B32: 012500600100 | C32: Benue Public service institute | G32: ='Detail RecExp. & CapEx'!K5629 -> 33600000 | H32: ='Detail RecExp. & CapEx'!K5644 -> 90000000 | I32: =G32+H32 -> 123600000 | N32: =SUM(I32,M32) -> 123600000 | Q32: Benue Public service institute
A33: 26 | B33: 014000100100 | C33: Office of the Auditor-General of the State | D33: 450000 | F33: =SUM(D33,E33) -> 450000 | G33: ='Detail RecExp. & CapEx'!J1293 -> 0 | H33: ='Detail RecExp. & CapEx'!J1302 -> -300000000 | I33: =G33+H33 -> -300000000 | J33: ='Detail RecExp. & CapEx'!I1293 -> 67950624 | K33: ='Detail RecExp. & CapEx'!I1302 -> 0 | L33: =J33+K33 -> 67950624 | M33: 6.5607836e+08 | N33: =SUM(I33,M33) -> 3.5607836e+08 | Q33: Office of the Auditor-General of the State
A34: 27 | B34: 014000200100 | C34: Local Government Audit Department | D34: 440000 | F34: =SUM(D34,E34) -> 440000 | G34: ='Detail RecExp. & CapEx'!J1323 -> 0 | I34: =G34+H34 -> 0 | J34: ='Detail RecExp. & CapEx'!I1323 -> 29413914 | L34: =J34+K34 -> 29413914 | M34: 75602495 | N34: =SUM(I34,M34) -> 75602495 | Q34: Local Government Audit Department
A35: 28 | B35: 014700100100 | C35: Benue State Civil Service Commission | F35: =SUM(D35,E35) -> 0 | G35: ='Detail RecExp. & CapEx'!J1359 -> 0 | H35: ='Detail RecExp. & CapEx'!J1368 -> 0 | I35: =G35+H35 -> 0 | J35: ='Detail RecExp. & CapEx'!I1359 -> 9133759.1 | K35: ='Detail RecExp. & CapEx'!I1368 -> 0 | L35: =J35+K35 -> 9133759.1 | M35: 96440830 | N35: =SUM(I35,M35) -> 96440830 | Q35: Benue State Civil Service Commission
A36: 29 | B36: 014800100100 | C36: Benue State Independent Electoral Commission (BSIEC) | D36: 158700000 | E36: ='DetailSup-Rec.Rev.,2024'!G236 -> 6644778900 | F36: =SUM(D36,E36) -> 6803478900 | G36: ='Detail RecExp. & CapEx'!J1414 -> 3451425240 | H36: ='Detail RecExp. & CapEx'!J1430 -> 3340300000 | I36: =G36+H36 -> 6791725240 | J36: ='Detail RecExp. & CapEx'!I1414 -> 1.1190737e+08 | K36: ='Detail RecExp. & CapEx'!I1430 -> 0 | L36: =J36+K36 -> 1.1190737e+08 | M36: 2.1991767e+09 | N36: =SUM(I36,M36) -> 8.9909019e+09 | Q36: Benue State Independent Electoral Commission (BSIEC)
A37: 30 | B37: 014900100100 | C37: Local Government Service Commission | D37: 120000000 | F37: =SUM(D37,E37) -> 120000000 | G37: ='Detail RecExp. & CapEx'!J1451 -> 0 | H37: ='Detail RecExp. & CapEx'!J1460 -> 0 | I37: =G37+H37 -> 0 | J37: ='Detail RecExp. & CapEx'!I1451 -> 92366261 | K37: ='Detail RecExp. & CapEx'!I1460 -> 0 | L37: =J37+K37 -> 92366261 | M37: 1.775201e+08 | N37: =SUM(I37,M37) -> 1.775201e+08 | Q37: Local Government Service Commission
A38: 31 | B38: 015600100100 | C38: Ministry of Communications and Digital Economy | E38: ='DetailSup-Rec.Rev.,2024'!G140 -> 250000000 | F38: =SUM(D38,E38) -> 250000000 | G38: ='Detail RecExp. & CapEx'!J1514 -> 825056900 | H38: ='Detail RecExp. & CapEx'!J1533 -> -14935000 | I38: =G38+H38 -> 810121900 | J38: ='Detail RecExp. & CapEx'!I1514 -> 353416000 | K38: ='Detail RecExp. & CapEx'!I1533 -> 0 | L38: =J38+K38 -> 353416000 | M38: 1065996387 | N38: =SUM(I38,M38) -> 1876118287 | Q38: Ministry of Communications and Digital Economy
A39: 32 | B39: 016100100100 | C39: Office of the Secretary to State Government (SSG) | F39: =SUM(D39,E39) -> 0 | G39: ='Detail RecExp. & CapEx'!J1569 -> 956800000 | H39: ='Detail RecExp. & CapEx'!J1589 -> 449400000 | I39: =G39+H39 -> 1406200000 | J39: ='Detail RecExp. & CapEx'!I1569 -> 1.1605787e+09 | K39: ='Detail RecExp. & CapEx'!I1589 -> 0 | L39: =J39+K39 -> 1.1605787e+09 | M39: 4.2044597e+09 | N39: =SUM(I39,M39) -> 5.6106597e+09 | Q39: Office of the Secretary to State Government (SSG)
A40: 33 | B40: 016100200100 | C40: Bureau of Political - SSG | F40: =SUM(D40,E40) -> 0 | G40: ='Detail RecExp. & CapEx'!J1611 -> 2800000 | I40: =G40+H40 -> 2800000 | J40: ='Detail RecExp. & CapEx'!I1611 -> 0 | L40: =J40+K40 -> 0 | M40: 9982000 | N40: =SUM(I40,M40) -> 12782000 | Q40: Bureau of Political - SSG
A41: 34 | B41: 016100300100 | C41: Bureau of Research and Policy Analysis (REPA) - SSG | F41: =SUM(D41,E41) -> 0 | G41: ='Detail RecExp. & CapEx'!J1626 -> 14000000 | H41: ='Detail RecExp. & CapEx'!J1635 -> 3500000 | I41: =G41+H41 -> 17500000 | J41: ='Detail RecExp. & CapEx'!I1626 -> 0 | K41: ='Detail RecExp. & CapEx'!I1635 -> 0 | L41: =J41+K41 -> 0 | M41: 3150000 | N41: =SUM(I41,M41) -> 20650000 | Q41: Bureau of Research and Policy Analysis (REPA) - SSG
...

Sheet Budget Framework,2022 (2)
A1: BENUE STATE GOVERNMENT
A3: 2022 SUPPLEMENTARY BUDGET FRAMEWORK
A4: S/No. | B4: Source of Revenue | C4: Revenue Estimates January- December, 2022 | D4: o/w COVID-responsive* (in 2022 )
A5: 1 | B5: Opening Balance
B6: RECEIPTS:
A7: 2 | B7: Statutory Allocation | C7: 3.4256954e+10 | E7: =C7+D7 -> 3.4256954e+10
A8: 3 | B8: FAAC Special Allocations | C8: 4253264465 | E8: =C8+D8 -> 4253264465
A9: 4 | B9: Share of VAT | C9: 22373647564 | E9: =C9+D9 -> 22373647564
A10: 5 | B10: Other Federation Account | C10: 1000000000 | E10: =C10+D10 -> 1000000000
C11: =SUM(C7:C10) -> 6.1883866e+10 | E11: =C11+D11 -> 6.1883866e+10
B12: INDEPENDENT REVENUE | E12: =C12+D12 -> 0
A13: 7 | B13: Tax Revenue | C13: 13157019742 | E13: =C13+D13 -> 13157019742
A14: 8 | B14: Non-Tax Revenue | C14: 2.1503147e+10 | E14: =C14+D14 -> 2.1503147e+10
C15: =SUM(C13:C14) -> 3.4660167e+10 | E15: =C15+D15 -> 3.4660167e+10
E16: =C16+D16 -> 0
B17: TOTAL PROJECTED FUNDS: | C17: =SUM(C11,C15) -> 9.6544033e+10 | E17: =C17+D17 -> 9.6544033e+10
B18: OTHER RECEIPTS/REVENUE | E18: =C18+D18 -> 0
A19: 9 | B19: Domestic Aid | C19: 13218000000 | E19: =C19+D19 -> 13218000000
A20: 10 | B20: Domestic Grant | C20: 1.1657292e+10 | E20: =C20+D20 -> 1.1657292e+10
A21: 11 | B21: Foreign Aid | C21: 1.3649267e+09 | E21: =C21+D21 -> 1.3649267e+09
A22: 12 | B22: Foreign Grant | C22: 2476256000 | E22: =C22+D22 -> 2476256000
A23: 13 | B23: Other Capital Receipts | C23: 5918282895 | E23: =C23+D23 -> 5918282895
A24: 14 | B24: Transfer To Fund Reccurent Expenditure | C24: 4.4325997e+09 | E24: =C24+D24 -> 4.4325997e+09
C25: =SUM(C19:C24) -> 3.9067358e+10 | E25: =C25+D25 -> 3.9067358e+10
B26: DEFICIT FINANCING: | E26: =C26+D26 -> 0
A27: 15 | B27: Domestic Loans/Bond/Deficit Financing | C27: 4.0292051e+10 | E27: =C27+D27 -> 4.0292051e+10
C28: =C27 -> 4.0292051e+10 | E28: =C28+D28 -> 4.0292051e+10
B29: EXPENDITURE: | E29: =C29+D29 -> 0
A30: 20 | B30: Debt Payments Local | C30: 9.1535034e+09 | D30: 9.1535034e+09 | E30: =C30+D30 -> 1.8307007e+10
A31: 21 | B31: Debt Payments Foreign | C31: 4.4e+08 | D31: -60000000 | E31: =C31+D31 -> 3.8e+08
A32: 22 | B32: Pension | C32: 3670840528 | E32: =C32+D32 -> 3670840528
A33: 23 | B33: Gratuity | C33: 956620439 | E33: =C33+D33 -> 956620439
A34: 24 | B34: Death benefits | C34: 64112964 | D34: -99000000 | E34: =C34+D34 -> -34887036
A35: 25 | B35: NHIS Contribution | C35: 8.759501e+08 | D35: -4.2143197e+08 | E35: =C35+D35 -> 4.5451814e+08
A36: 26 | B36: Contributory Pension | C36: 1.6919694e+09 | D36: -464576530 | E36: =C36+D36 -> 1.2273929e+09
A37: 27 | B37: Personnel Costs | C37: =48454808485.2036-C32-C33-C34-C35-C36 -> 4.1195315e+10 | E37: =C37+D37 -> 4.1195315e+10
A38: 28 | B38: Overhead Costs | C38: =60036801961.2139-C30-C31 -> 5.0443299e+10 | E38: =C38+D38 -> 5.0443299e+10
B39: CAPITAL | E39: =C39+D39 -> 0
A40: 28 | B40: ADMINISTRATION SECTOR: | C40: 3607482280 | E40: =C40+D40 -> 3607482280
A41: 29 | B41: ECONOMIC SECTOR: | C41: 5.2312163e+10 | E41: =C41+D41 -> 5.2312163e+10
...

Sheet Detail RecExp. & CapEx (2)
A1: BENUE STATE GOVERNMENT
A2: 2021 SUPPLEMENTARY BUDGET
A3: 23050126 | B3: 02 | C3: 70620 | D3: 00020000010101 | E3: 03101 | F3: 10721300 | G3: SERVICE CONCESSION ASSETS (PPP): PRINTING OF BOOKLET: TITLE "TACKLING RURAL POVERTY IN BENUE STATE THROUGH COOPERATIVE ADMINISTRATION AND RUFIN | H3: 936000 | K3: =SUM(H3,J3) -> 936000 | L3: CR8
A4: 23050126 | B4: 02 | C4: 70620 | D4: 00080000020102 | E4: 03101 | F4: 10721300 | G4: SERVICE CONCESSION ASSETS (PPP): COMMUNITY APPRENTICESHIP SCHEME | H4: 2500000 | K4: =SUM(H4,J4) -> 2500000 | L4: CR8
A5: 23050126 | B5: 02 | C5: 70620 | D5: 80000020102 | E5: 3101 | F5: 10721300 | G5: SERVICE CONCESSION ASSETS (PPP): COMMUNITY APPRENTICESHIP SCHEME | H5: 2500000 | K5: =SUM(H5,J5) -> 2500000 | L5: CR9
